Package: methylInheritance Version: 1.24.0 Command: /Library/Frameworks/R.framework/Resources/bin/R CMD build --keep-empty-dirs --no-resave-data methylInheritance StartedAt: 2023-10-15 19:25:11 -0400 (Sun, 15 Oct 2023) EndedAt: 2023-10-15 19:28:23 -0400 (Sun, 15 Oct 2023) EllapsedTime: 192.1 seconds RetCode: 0 Status: OK PackageFile: methylInheritance_1.24.0.tar.gz PackageFileSize: 1.7 MiB