Package: methrix Version: 1.14.0 Command: /home/biocbuild/bbs-3.17-bioc/R/bin/R CMD build --keep-empty-dirs --no-resave-data methrix StartedAt: 2023-10-15 17:23:21 -0400 (Sun, 15 Oct 2023) EndedAt: 2023-10-15 17:26:42 -0400 (Sun, 15 Oct 2023) EllapsedTime: 201.0 seconds RetCode: 0 Status: OK PackageFile: methrix_1.14.0.tar.gz PackageFileSize: 3.951 MiB