Package: methrix Version: 1.14.0 Command: /Library/Frameworks/R.framework/Resources/bin/R CMD INSTALL methrix StartedAt: 2023-10-15 15:34:23 -0400 (Sun, 15 Oct 2023) EndedAt: 2023-10-15 15:36:20 -0400 (Sun, 15 Oct 2023) EllapsedTime: 117.7 seconds RetCode: 0 Status: OK