Package: methrix Version: 1.14.0 Command: rm -rf methrix.buildbin-libdir && mkdir methrix.buildbin-libdir && /Users/biocbuild/BBS/utils/build-universal.sh methrix_1.14.0.tar.gz /Library/Frameworks/R.framework/Resources/bin/R methrix.buildbin-libdir StartedAt: 2023-10-16 09:42:13 -0400 (Mon, 16 Oct 2023) EndedAt: 2023-10-16 09:44:27 -0400 (Mon, 16 Oct 2023) EllapsedTime: 133.8 seconds RetCode: 0 Status: OK PackageFile: methrix_1.14.0.tgz PackageFileSize: 3.328 MiB