Package: methInheritSim Version: 1.22.0 Command: chmod a+r methInheritSim -R && F:\biocbuild\bbs-3.17-bioc\R\bin\R.exe CMD build --keep-empty-dirs --no-resave-data methInheritSim StartedAt: 2023-10-15 20:19:09 -0400 (Sun, 15 Oct 2023) EndedAt: 2023-10-15 20:20:22 -0400 (Sun, 15 Oct 2023) EllapsedTime: 73.4 seconds RetCode: 0 Status: OK PackageFile: methInheritSim_1.22.0.tar.gz PackageFileSize: 1.117 MiB