Package: methInheritSim Version: 1.22.0 Command: rm -rf methInheritSim.buildbin-libdir && mkdir methInheritSim.buildbin-libdir && F:\biocbuild\bbs-3.17-bioc\R\bin\R.exe CMD INSTALL --build --library=methInheritSim.buildbin-libdir methInheritSim_1.22.0.tar.gz StartedAt: 2023-10-16 09:03:49 -0400 (Mon, 16 Oct 2023) EndedAt: 2023-10-16 09:04:32 -0400 (Mon, 16 Oct 2023) EllapsedTime: 42.9 seconds RetCode: 0 Status: OK PackageFile: methInheritSim_1.22.0.zip PackageFileSize: 717.3 KiB