Package: methInheritSim Version: 1.22.0 Command: /home/biocbuild/bbs-3.17-bioc/R/bin/R CMD check --install=check:methInheritSim.install-out.txt --library=/home/biocbuild/bbs-3.17-bioc/R/site-library --timings methInheritSim_1.22.0.tar.gz StartedAt: 2023-10-15 22:40:30 -0400 (Sun, 15 Oct 2023) EndedAt: 2023-10-15 22:45:49 -0400 (Sun, 15 Oct 2023) EllapsedTime: 319.0 seconds RetCode: 0 Status: OK CheckDir: methInheritSim.Rcheck Warnings: 0