Package: methInheritSim Version: 1.22.0 Command: /Library/Frameworks/R.framework/Resources/bin/R CMD INSTALL methInheritSim StartedAt: 2023-10-15 16:03:55 -0400 (Sun, 15 Oct 2023) EndedAt: 2023-10-15 16:05:47 -0400 (Sun, 15 Oct 2023) EllapsedTime: 111.9 seconds RetCode: 0 Status: OK