Package: methInheritSim Version: 1.22.0 Command: /Library/Frameworks/R.framework/Resources/bin/R CMD build --keep-empty-dirs --no-resave-data methInheritSim StartedAt: 2023-10-15 19:23:03 -0400 (Sun, 15 Oct 2023) EndedAt: 2023-10-15 19:25:48 -0400 (Sun, 15 Oct 2023) EllapsedTime: 164.9 seconds RetCode: 0 Status: OK PackageFile: methInheritSim_1.22.0.tar.gz PackageFileSize: 1.117 MiB