Package: metabCombiner Version: 1.10.0 Command: /Library/Frameworks/R.framework/Resources/bin/R CMD build --keep-empty-dirs --no-resave-data metabCombiner StartedAt: 2023-10-15 19:20:23 -0400 (Sun, 15 Oct 2023) EndedAt: 2023-10-15 19:21:43 -0400 (Sun, 15 Oct 2023) EllapsedTime: 79.4 seconds RetCode: 0 Status: OK PackageFile: metabCombiner_1.10.0.tar.gz PackageFileSize: 2.545 MiB