Package: meshr Version: 2.6.0 Command: /home/biocbuild/bbs-3.17-bioc/R/bin/R CMD build --keep-empty-dirs --no-resave-data meshr StartedAt: 2023-10-15 17:21:03 -0400 (Sun, 15 Oct 2023) EndedAt: 2023-10-15 17:21:27 -0400 (Sun, 15 Oct 2023) EllapsedTime: 24.5 seconds RetCode: 0 Status: OK PackageFile: meshr_2.6.0.tar.gz PackageFileSize: 1002 KiB