Package: meshr Version: 2.6.0 Command: /Library/Frameworks/R.framework/Resources/bin/R CMD build --keep-empty-dirs --no-resave-data meshr StartedAt: 2023-10-15 19:20:05 -0400 (Sun, 15 Oct 2023) EndedAt: 2023-10-15 19:21:06 -0400 (Sun, 15 Oct 2023) EllapsedTime: 61.2 seconds RetCode: 0 Status: OK PackageFile: meshr_2.6.0.tar.gz PackageFileSize: 1002 KiB