Package: lmdme Version: 1.42.0 Command: /home/biocbuild/bbs-3.17-bioc/R/bin/R CMD build --keep-empty-dirs --no-resave-data lmdme StartedAt: 2023-10-15 17:16:07 -0400 (Sun, 15 Oct 2023) EndedAt: 2023-10-15 17:16:17 -0400 (Sun, 15 Oct 2023) EllapsedTime: 10.0 seconds RetCode: 0 Status: OK PackageFile: lmdme_1.42.0.tar.gz PackageFileSize: 609 KiB