Package: limmaGUI Version: 1.76.0 Command: /Library/Frameworks/R.framework/Resources/bin/R CMD INSTALL limmaGUI StartedAt: 2023-10-15 15:08:33 -0400 (Sun, 15 Oct 2023) EndedAt: 2023-10-15 15:09:20 -0400 (Sun, 15 Oct 2023) EllapsedTime: 47.2 seconds RetCode: 0 Status: OK