Package: limmaGUI Version: 1.76.0 Command: rm -rf limmaGUI.buildbin-libdir && mkdir limmaGUI.buildbin-libdir && /Users/biocbuild/BBS/utils/build-universal.sh limmaGUI_1.76.0.tar.gz /Library/Frameworks/R.framework/Resources/bin/R limmaGUI.buildbin-libdir StartedAt: 2023-10-16 09:37:48 -0400 (Mon, 16 Oct 2023) EndedAt: 2023-10-16 09:39:00 -0400 (Mon, 16 Oct 2023) EllapsedTime: 71.5 seconds RetCode: 0 Status: OK PackageFile: limmaGUI_1.76.0.tgz PackageFileSize: 5.965 MiB