Package: iterClust Version: 1.22.0 Command: /home/biocbuild/bbs-3.17-bioc/R/bin/R CMD build --keep-empty-dirs --no-resave-data iterClust StartedAt: 2023-10-15 17:13:39 -0400 (Sun, 15 Oct 2023) EndedAt: 2023-10-15 17:14:06 -0400 (Sun, 15 Oct 2023) EllapsedTime: 26.2 seconds RetCode: 0 Status: OK PackageFile: iterClust_1.22.0.tar.gz PackageFileSize: 116 KiB