Package: iClusterPlus Version: 1.36.1 Command: rm -rf iClusterPlus.buildbin-libdir && mkdir iClusterPlus.buildbin-libdir && F:\biocbuild\bbs-3.17-bioc\R\bin\R.exe CMD INSTALL --build --library=iClusterPlus.buildbin-libdir iClusterPlus_1.36.1.tar.gz StartedAt: 2023-10-16 08:57:00 -0400 (Mon, 16 Oct 2023) EndedAt: 2023-10-16 08:57:37 -0400 (Mon, 16 Oct 2023) EllapsedTime: 36.6 seconds RetCode: 0 Status: OK PackageFile: iClusterPlus_1.36.1.zip PackageFileSize: 16.18 MiB