Package: iClusterPlus Version: 1.36.1 Command: /home/biocbuild/bbs-3.17-bioc/R/bin/R CMD build --keep-empty-dirs --no-resave-data iClusterPlus StartedAt: 2023-10-15 17:08:18 -0400 (Sun, 15 Oct 2023) EndedAt: 2023-10-15 17:08:45 -0400 (Sun, 15 Oct 2023) EllapsedTime: 26.5 seconds RetCode: 0 Status: OK PackageFile: iClusterPlus_1.36.1.tar.gz PackageFileSize: 20.6 MiB