Package: iClusterPlus Version: 1.36.1 Command: rm -rf iClusterPlus.buildbin-libdir && mkdir iClusterPlus.buildbin-libdir && /Users/biocbuild/BBS/utils/build-universal.sh iClusterPlus_1.36.1.tar.gz /Library/Frameworks/R.framework/Resources/bin/R iClusterPlus.buildbin-libdir StartedAt: 2023-10-16 09:34:14 -0400 (Mon, 16 Oct 2023) EndedAt: 2023-10-16 09:36:02 -0400 (Mon, 16 Oct 2023) EllapsedTime: 108.1 seconds RetCode: 0 Status: OK PackageFile: iClusterPlus_1.36.1.tgz PackageFileSize: 16.14 MiB