Package: hyperdraw Version: 1.52.0 Command: rm -rf hyperdraw.buildbin-libdir && mkdir hyperdraw.buildbin-libdir && /Users/biocbuild/BBS/utils/build-universal.sh hyperdraw_1.52.0.tar.gz /Library/Frameworks/R.framework/Resources/bin/R hyperdraw.buildbin-libdir StartedAt: 2023-10-16 09:33:56 -0400 (Mon, 16 Oct 2023) EndedAt: 2023-10-16 09:34:14 -0400 (Mon, 16 Oct 2023) EllapsedTime: 18.1 seconds RetCode: 0 Status: OK PackageFile: hyperdraw_1.52.0.tgz PackageFileSize: 387.2 KiB