Package: hierinf Version: 1.18.0 Command: /home/biocbuild/bbs-3.17-bioc/R/bin/R CMD build --keep-empty-dirs --no-resave-data hierinf StartedAt: 2023-10-15 17:06:18 -0400 (Sun, 15 Oct 2023) EndedAt: 2023-10-15 17:07:40 -0400 (Sun, 15 Oct 2023) EllapsedTime: 81.6 seconds RetCode: 0 Status: OK PackageFile: hierinf_1.18.0.tar.gz PackageFileSize: 429.6 KiB