Package: gsean Version: 1.20.2 Command: /home/biocbuild/bbs-3.17-bioc/R/bin/R CMD INSTALL gsean StartedAt: 2023-10-15 15:37:49 -0400 (Sun, 15 Oct 2023) EndedAt: 2023-10-15 15:38:13 -0400 (Sun, 15 Oct 2023) EllapsedTime: 24.2 seconds RetCode: 0 Status: OK