Package: gsean Version: 1.20.2 Command: /home/biocbuild/bbs-3.17-bioc/R/bin/R CMD build --keep-empty-dirs --no-resave-data gsean StartedAt: 2023-10-15 17:02:49 -0400 (Sun, 15 Oct 2023) EndedAt: 2023-10-15 17:03:52 -0400 (Sun, 15 Oct 2023) EllapsedTime: 63.1 seconds RetCode: 0 Status: OK PackageFile: gsean_1.20.2.tar.gz PackageFileSize: 1.535 MiB