Package: gsean Version: 1.20.2 Command: /Library/Frameworks/R.framework/Resources/bin/R CMD build --keep-empty-dirs --no-resave-data gsean StartedAt: 2023-10-15 18:44:56 -0400 (Sun, 15 Oct 2023) EndedAt: 2023-10-15 18:47:37 -0400 (Sun, 15 Oct 2023) EllapsedTime: 160.6 seconds RetCode: 0 Status: OK PackageFile: gsean_1.20.2.tar.gz PackageFileSize: 1.534 MiB