Package: graphite Version: 1.46.0 Command: /home/biocbuild/bbs-3.17-bioc/R/bin/R CMD build --keep-empty-dirs --no-resave-data graphite StartedAt: 2023-10-15 17:01:07 -0400 (Sun, 15 Oct 2023) EndedAt: 2023-10-15 17:02:02 -0400 (Sun, 15 Oct 2023) EllapsedTime: 54.8 seconds RetCode: 0 Status: OK PackageFile: graphite_1.46.0.tar.gz PackageFileSize: 769.7 KiB