Package: gpls Version: 1.72.0 Command: /home/biocbuild/bbs-3.17-bioc/R/bin/R CMD build --keep-empty-dirs --no-resave-data gpls StartedAt: 2023-10-15 17:00:17 -0400 (Sun, 15 Oct 2023) EndedAt: 2023-10-15 17:00:24 -0400 (Sun, 15 Oct 2023) EllapsedTime: 7.0 seconds RetCode: 0 Status: OK PackageFile: gpls_1.72.0.tar.gz PackageFileSize: 101.3 KiB