Package: gpls Version: 1.72.0 Command: /Library/Frameworks/R.framework/Resources/bin/R CMD INSTALL gpls StartedAt: 2023-10-15 15:03:39 -0400 (Sun, 15 Oct 2023) EndedAt: 2023-10-15 15:04:04 -0400 (Sun, 15 Oct 2023) EllapsedTime: 24.5 seconds RetCode: 0 Status: OK