Package: gpls Version: 1.72.0 Command: /Library/Frameworks/R.framework/Resources/bin/R CMD build --keep-empty-dirs --no-resave-data gpls StartedAt: 2023-10-15 18:40:59 -0400 (Sun, 15 Oct 2023) EndedAt: 2023-10-15 18:41:26 -0400 (Sun, 15 Oct 2023) EllapsedTime: 27.5 seconds RetCode: 0 Status: OK PackageFile: gpls_1.72.0.tar.gz PackageFileSize: 233.3 KiB