Package: gpls Version: 1.72.0 Command: rm -rf gpls.buildbin-libdir && mkdir gpls.buildbin-libdir && /Users/biocbuild/BBS/utils/build-universal.sh gpls_1.72.0.tar.gz /Library/Frameworks/R.framework/Resources/bin/R gpls.buildbin-libdir StartedAt: 2023-10-16 09:30:35 -0400 (Mon, 16 Oct 2023) EndedAt: 2023-10-16 09:30:45 -0400 (Mon, 16 Oct 2023) EllapsedTime: 9.4 seconds RetCode: 0 Status: OK PackageFile: gpls_1.72.0.tgz PackageFileSize: 294.7 KiB