Package: goseq Version: 1.52.0 Command: /home/biocbuild/bbs-3.17-bioc/R/bin/R CMD build --keep-empty-dirs --no-resave-data goseq StartedAt: 2023-10-15 16:59:27 -0400 (Sun, 15 Oct 2023) EndedAt: 2023-10-15 17:02:53 -0400 (Sun, 15 Oct 2023) EllapsedTime: 206.0 seconds RetCode: 0 Status: OK PackageFile: goseq_1.52.0.tar.gz PackageFileSize: 1.694 MiB