Package: goTools Version: 1.74.0 Command: /home/biocbuild/bbs-3.17-bioc/R/bin/R CMD INSTALL goTools StartedAt: 2023-10-15 15:17:44 -0400 (Sun, 15 Oct 2023) EndedAt: 2023-10-15 15:17:57 -0400 (Sun, 15 Oct 2023) EllapsedTime: 12.7 seconds RetCode: 0 Status: OK