Package: goTools Version: 1.74.0 Command: /home/biocbuild/bbs-3.17-bioc/R/bin/R CMD build --keep-empty-dirs --no-resave-data goTools StartedAt: 2023-10-15 16:59:57 -0400 (Sun, 15 Oct 2023) EndedAt: 2023-10-15 17:00:16 -0400 (Sun, 15 Oct 2023) EllapsedTime: 19.3 seconds RetCode: 0 Status: OK PackageFile: goTools_1.74.0.tar.gz PackageFileSize: 103.7 KiB