Package: goTools Version: 1.74.0 Command: /Library/Frameworks/R.framework/Resources/bin/R CMD build --keep-empty-dirs --no-resave-data goTools StartedAt: 2023-10-15 18:40:31 -0400 (Sun, 15 Oct 2023) EndedAt: 2023-10-15 18:41:23 -0400 (Sun, 15 Oct 2023) EllapsedTime: 52.3 seconds RetCode: 0 Status: OK PackageFile: goTools_1.74.0.tar.gz PackageFileSize: 242.1 KiB