Package: goTools Version: 1.74.0 Command: rm -rf goTools.buildbin-libdir && mkdir goTools.buildbin-libdir && /Users/biocbuild/BBS/utils/build-universal.sh goTools_1.74.0.tar.gz /Library/Frameworks/R.framework/Resources/bin/R goTools.buildbin-libdir StartedAt: 2023-10-16 09:30:27 -0400 (Mon, 16 Oct 2023) EndedAt: 2023-10-16 09:31:14 -0400 (Mon, 16 Oct 2023) EllapsedTime: 47.1 seconds RetCode: 0 Status: OK PackageFile: goTools_1.74.0.tgz PackageFileSize: 261.3 KiB