Package: glmGamPoi Version: 1.12.2 Command: /home/biocbuild/bbs-3.17-bioc/R/bin/R CMD build --keep-empty-dirs --no-resave-data glmGamPoi StartedAt: 2023-10-15 16:57:47 -0400 (Sun, 15 Oct 2023) EndedAt: 2023-10-15 17:05:25 -0400 (Sun, 15 Oct 2023) EllapsedTime: 457.7 seconds RetCode: 0 Status: OK PackageFile: glmGamPoi_1.12.2.tar.gz PackageFileSize: 2.006 MiB