Package: ggtree Version: 3.8.2 Command: F:\biocbuild\bbs-3.17-bioc\R\bin\R.exe CMD INSTALL ggtree StartedAt: 2023-10-15 16:14:34 -0400 (Sun, 15 Oct 2023) EndedAt: 2023-10-15 16:14:59 -0400 (Sun, 15 Oct 2023) EllapsedTime: 25.6 seconds RetCode: 0 Status: OK