Package: ggtree Version: 3.8.2 Command: chmod a+r ggtree -R && F:\biocbuild\bbs-3.17-bioc\R\bin\R.exe CMD build --keep-empty-dirs --no-resave-data ggtree StartedAt: 2023-10-15 19:33:20 -0400 (Sun, 15 Oct 2023) EndedAt: 2023-10-15 19:33:44 -0400 (Sun, 15 Oct 2023) EllapsedTime: 24.1 seconds RetCode: 0 Status: OK PackageFile: ggtree_3.8.2.tar.gz PackageFileSize: 352.6 KiB