Package: ggtree Version: 3.8.2 Command: rm -rf ggtree.buildbin-libdir && mkdir ggtree.buildbin-libdir && F:\biocbuild\bbs-3.17-bioc\R\bin\R.exe CMD INSTALL --build --library=ggtree.buildbin-libdir ggtree_3.8.2.tar.gz StartedAt: 2023-10-16 08:52:42 -0400 (Mon, 16 Oct 2023) EndedAt: 2023-10-16 08:53:09 -0400 (Mon, 16 Oct 2023) EllapsedTime: 27.0 seconds RetCode: 0 Status: OK PackageFile: ggtree_3.8.2.zip PackageFileSize: 891.1 KiB