Package: gep2pep Version: 1.20.0 Command: /home/biocbuild/bbs-3.17-bioc/R/bin/R CMD INSTALL gep2pep StartedAt: 2023-10-15 15:32:23 -0400 (Sun, 15 Oct 2023) EndedAt: 2023-10-15 15:32:40 -0400 (Sun, 15 Oct 2023) EllapsedTime: 16.7 seconds RetCode: 0 Status: OK