Package: gep2pep Version: 1.20.0 Command: /home/biocbuild/bbs-3.17-bioc/R/bin/R CMD build --keep-empty-dirs --no-resave-data gep2pep StartedAt: 2023-10-15 16:56:08 -0400 (Sun, 15 Oct 2023) EndedAt: 2023-10-15 16:56:33 -0400 (Sun, 15 Oct 2023) EllapsedTime: 25.2 seconds RetCode: 0 Status: OK PackageFile: gep2pep_1.20.0.tar.gz PackageFileSize: 122.5 KiB