Package: gemma.R Version: 1.2.0 Command: rm -rf gemma.R.buildbin-libdir && mkdir gemma.R.buildbin-libdir && F:\biocbuild\bbs-3.17-bioc\R\bin\R.exe CMD INSTALL --build --library=gemma.R.buildbin-libdir gemma.R_1.2.0.tar.gz StartedAt: 2023-10-14 09:10:55 -0400 (Sat, 14 Oct 2023) EndedAt: 2023-10-14 09:11:14 -0400 (Sat, 14 Oct 2023) EllapsedTime: 18.7 seconds RetCode: 0 Status: OK PackageFile: gemma.R_1.2.0.zip PackageFileSize: 969.8 KiB