Package: gemma.R Version: 1.2.0 Command: /home/biocbuild/bbs-3.17-bioc/R/bin/R CMD build --keep-empty-dirs --no-resave-data gemma.R StartedAt: 2023-10-15 16:52:37 -0400 (Sun, 15 Oct 2023) EndedAt: 2023-10-15 16:53:06 -0400 (Sun, 15 Oct 2023) EllapsedTime: 28.6 seconds RetCode: 1 Status: ERROR PackageFile: None PackageFileSize: NA