Package: gemma.R Version: 1.2.0 Command: /Library/Frameworks/R.framework/Resources/bin/R CMD INSTALL gemma.R StartedAt: 2023-10-15 15:13:04 -0400 (Sun, 15 Oct 2023) EndedAt: 2023-10-15 15:13:19 -0400 (Sun, 15 Oct 2023) EllapsedTime: 14.9 seconds RetCode: 0 Status: OK