Package: gemini Version: 1.14.0 Command: /home/biocbuild/bbs-3.17-bioc/R/bin/R CMD build --keep-empty-dirs --no-resave-data gemini StartedAt: 2023-10-15 16:52:37 -0400 (Sun, 15 Oct 2023) EndedAt: 2023-10-15 16:53:02 -0400 (Sun, 15 Oct 2023) EllapsedTime: 25.6 seconds RetCode: 0 Status: OK PackageFile: gemini_1.14.0.tar.gz PackageFileSize: 4.063 MiB