Package: geNetClassifier Version: 1.40.0 Command: chmod a+r geNetClassifier -R && F:\biocbuild\bbs-3.17-bioc\R\bin\R.exe CMD build --keep-empty-dirs --no-resave-data geNetClassifier StartedAt: 2023-10-15 19:26:50 -0400 (Sun, 15 Oct 2023) EndedAt: 2023-10-15 19:27:16 -0400 (Sun, 15 Oct 2023) EllapsedTime: 26.1 seconds RetCode: 0 Status: OK PackageFile: geNetClassifier_1.40.0.tar.gz PackageFileSize: 3.689 MiB