Package: geNetClassifier Version: 1.40.0 Command: rm -rf geNetClassifier.buildbin-libdir && mkdir geNetClassifier.buildbin-libdir && F:\biocbuild\bbs-3.17-bioc\R\bin\R.exe CMD INSTALL --build --library=geNetClassifier.buildbin-libdir geNetClassifier_1.40.0.tar.gz StartedAt: 2023-10-16 08:50:57 -0400 (Mon, 16 Oct 2023) EndedAt: 2023-10-16 08:51:16 -0400 (Mon, 16 Oct 2023) EllapsedTime: 18.9 seconds RetCode: 0 Status: OK PackageFile: geNetClassifier_1.40.0.zip PackageFileSize: 2.988 MiB