Package: geNetClassifier Version: 1.40.0 Command: /home/biocbuild/bbs-3.17-bioc/R/bin/R CMD build --keep-empty-dirs --no-resave-data geNetClassifier StartedAt: 2023-10-15 16:54:05 -0400 (Sun, 15 Oct 2023) EndedAt: 2023-10-15 16:54:20 -0400 (Sun, 15 Oct 2023) EllapsedTime: 15.1 seconds RetCode: 0 Status: OK PackageFile: geNetClassifier_1.40.0.tar.gz PackageFileSize: 3.683 MiB