Package: gdsfmt Version: 1.36.1 Command: /home/biocbuild/bbs-3.17-bioc/R/bin/R CMD build --keep-empty-dirs --no-resave-data gdsfmt StartedAt: 2023-10-15 16:52:35 -0400 (Sun, 15 Oct 2023) EndedAt: 2023-10-15 16:56:08 -0400 (Sun, 15 Oct 2023) EllapsedTime: 213.1 seconds RetCode: 0 Status: OK PackageFile: gdsfmt_1.36.1.tar.gz PackageFileSize: 2.796 MiB