Package: fobitools Version: 1.8.0 Command: /home/biocbuild/bbs-3.17-bioc/R/bin/R CMD build --keep-empty-dirs --no-resave-data fobitools StartedAt: 2023-10-15 16:50:42 -0400 (Sun, 15 Oct 2023) EndedAt: 2023-10-15 16:51:50 -0400 (Sun, 15 Oct 2023) EllapsedTime: 67.3 seconds RetCode: 0 Status: OK PackageFile: fobitools_1.8.0.tar.gz PackageFileSize: 4.354 MiB