Package: flowWorkspace Version: 4.12.2 Command: chmod a+r flowWorkspace -R && F:\biocbuild\bbs-3.17-bioc\R\bin\R.exe CMD build --keep-empty-dirs --no-resave-data flowWorkspace StartedAt: 2023-10-15 19:20:31 -0400 (Sun, 15 Oct 2023) EndedAt: 2023-10-15 19:24:29 -0400 (Sun, 15 Oct 2023) EllapsedTime: 238.1 seconds RetCode: 0 Status: OK PackageFile: flowWorkspace_4.12.2.tar.gz PackageFileSize: 3.782 MiB